BEGIN:VCALENDAR
VERSION:2.0
PRODID:-//DoucheFLUX - ECPv6.15.17//NONSGML v1.0//EN
CALSCALE:GREGORIAN
METHOD:PUBLISH
X-WR-CALNAME:DoucheFLUX
X-ORIGINAL-URL:https://doucheflux.be/?lang=en
X-WR-CALDESC:Events for DoucheFLUX
REFRESH-INTERVAL;VALUE=DURATION:PT1H
X-Robots-Tag:noindex
X-PUBLISHED-TTL:PT1H
BEGIN:VTIMEZONE
TZID:Europe/Brussels
BEGIN:DAYLIGHT
TZOFFSETFROM:+0100
TZOFFSETTO:+0200
TZNAME:CEST
DTSTART:20250330T010000
END:DAYLIGHT
BEGIN:STANDARD
TZOFFSETFROM:+0200
TZOFFSETTO:+0100
TZNAME:CET
DTSTART:20251026T010000
END:STANDARD
BEGIN:DAYLIGHT
TZOFFSETFROM:+0100
TZOFFSETTO:+0200
TZNAME:CEST
DTSTART:20260329T010000
END:DAYLIGHT
BEGIN:STANDARD
TZOFFSETFROM:+0200
TZOFFSETTO:+0100
TZNAME:CET
DTSTART:20261025T010000
END:STANDARD
BEGIN:DAYLIGHT
TZOFFSETFROM:+0100
TZOFFSETTO:+0200
TZNAME:CEST
DTSTART:20270328T010000
END:DAYLIGHT
BEGIN:STANDARD
TZOFFSETFROM:+0200
TZOFFSETTO:+0100
TZNAME:CET
DTSTART:20271031T010000
END:STANDARD
END:VTIMEZONE
BEGIN:VEVENT
DTSTART;TZID=Europe/Brussels:20260422T120000
DTEND;TZID=Europe/Brussels:20260422T150000
DTSTAMP:20260420T111637
CREATED:20240905T230823Z
LAST-MODIFIED:20241213T014245Z
UID:10018221-1776859200-1776870000@doucheflux.be
SUMMARY:Sewing
DESCRIPTION:The sewing and knitting workshops take place on Wednesdays on 100% women\, when DoucheFLUX is open only to women\, at the request of the women themselves. \nThe sewing workshop is organised in collaboration with the ARC. It has many goals: to offer the joy of cultivating a hobby\, the possibility of transmitting knowledge and enhancing skills\, mending items or making custom clothing and accessories. \nThe knitting workshop is an unstructured workshop that has been created spontaneously. It is a place to exchange knitting tips and tricks with other participants and to share a common interest in knitting. \nSewing workshop\n\nOn Wednesdays from 13.00 to 16.00\nFor women only\nNo previous knowledge required\nWe provide all the necessary materials\nFree of charge\n\nIn collaboration with\n \n\nKnitting workshop\n\nOn Wednesdays from 13.00 to 16.00\nFor women only\nNo previous knowledge required\nWe provide all the necessary materials\nFree of charge\n\n  \n 
URL:https://doucheflux.be/event/sewing/2026-04-22/?lang=en
LOCATION:DoucheFLUX\, rue des vétérinaires 84\, Anderlecht\, Bruxelles\, 1070\, Belgium
CATEGORIES:Creativity
ATTACH;FMTTYPE=image/jpeg:https://doucheflux.be/wp-content/uploads/2024/08/repair_couture_web_flip.jpg
END:VEVENT
BEGIN:VEVENT
DTSTART;TZID=Europe/Brussels:20260423T090000
DTEND;TZID=Europe/Brussels:20260423T110000
DTSTAMP:20260420T111637
CREATED:20240905T230823Z
LAST-MODIFIED:20241213T014245Z
UID:10021917-1776934800-1776942000@doucheflux.be
SUMMARY:Sewing
DESCRIPTION:The sewing and knitting workshops take place on Wednesdays on 100% women\, when DoucheFLUX is open only to women\, at the request of the women themselves. \nThe sewing workshop is organised in collaboration with the ARC. It has many goals: to offer the joy of cultivating a hobby\, the possibility of transmitting knowledge and enhancing skills\, mending items or making custom clothing and accessories. \nThe knitting workshop is an unstructured workshop that has been created spontaneously. It is a place to exchange knitting tips and tricks with other participants and to share a common interest in knitting. \nSewing workshop\n\nOn Wednesdays from 13.00 to 16.00\nFor women only\nNo previous knowledge required\nWe provide all the necessary materials\nFree of charge\n\nIn collaboration with\n \n\nKnitting workshop\n\nOn Wednesdays from 13.00 to 16.00\nFor women only\nNo previous knowledge required\nWe provide all the necessary materials\nFree of charge\n\n  \n 
URL:https://doucheflux.be/event/sewing/2026-04-23/?lang=en
LOCATION:DoucheFLUX\, rue des vétérinaires 84\, Anderlecht\, Bruxelles\, 1070\, Belgium
CATEGORIES:Creativity
ATTACH;FMTTYPE=image/jpeg:https://doucheflux.be/wp-content/uploads/2024/08/repair_couture_web_flip.jpg
END:VEVENT
BEGIN:VEVENT
DTSTART;TZID=Europe/Brussels:20260429T120000
DTEND;TZID=Europe/Brussels:20260429T150000
DTSTAMP:20260420T111637
CREATED:20240905T230823Z
LAST-MODIFIED:20241213T014245Z
UID:10018222-1777464000-1777474800@doucheflux.be
SUMMARY:Sewing
DESCRIPTION:The sewing and knitting workshops take place on Wednesdays on 100% women\, when DoucheFLUX is open only to women\, at the request of the women themselves. \nThe sewing workshop is organised in collaboration with the ARC. It has many goals: to offer the joy of cultivating a hobby\, the possibility of transmitting knowledge and enhancing skills\, mending items or making custom clothing and accessories. \nThe knitting workshop is an unstructured workshop that has been created spontaneously. It is a place to exchange knitting tips and tricks with other participants and to share a common interest in knitting. \nSewing workshop\n\nOn Wednesdays from 13.00 to 16.00\nFor women only\nNo previous knowledge required\nWe provide all the necessary materials\nFree of charge\n\nIn collaboration with\n \n\nKnitting workshop\n\nOn Wednesdays from 13.00 to 16.00\nFor women only\nNo previous knowledge required\nWe provide all the necessary materials\nFree of charge\n\n  \n 
URL:https://doucheflux.be/event/sewing/2026-04-29/?lang=en
LOCATION:DoucheFLUX\, rue des vétérinaires 84\, Anderlecht\, Bruxelles\, 1070\, Belgium
CATEGORIES:Creativity
ATTACH;FMTTYPE=image/jpeg:https://doucheflux.be/wp-content/uploads/2024/08/repair_couture_web_flip.jpg
END:VEVENT
BEGIN:VEVENT
DTSTART;TZID=Europe/Brussels:20260430T090000
DTEND;TZID=Europe/Brussels:20260430T110000
DTSTAMP:20260420T111637
CREATED:20240905T230823Z
LAST-MODIFIED:20241213T014245Z
UID:10021918-1777539600-1777546800@doucheflux.be
SUMMARY:Sewing
DESCRIPTION:The sewing and knitting workshops take place on Wednesdays on 100% women\, when DoucheFLUX is open only to women\, at the request of the women themselves. \nThe sewing workshop is organised in collaboration with the ARC. It has many goals: to offer the joy of cultivating a hobby\, the possibility of transmitting knowledge and enhancing skills\, mending items or making custom clothing and accessories. \nThe knitting workshop is an unstructured workshop that has been created spontaneously. It is a place to exchange knitting tips and tricks with other participants and to share a common interest in knitting. \nSewing workshop\n\nOn Wednesdays from 13.00 to 16.00\nFor women only\nNo previous knowledge required\nWe provide all the necessary materials\nFree of charge\n\nIn collaboration with\n \n\nKnitting workshop\n\nOn Wednesdays from 13.00 to 16.00\nFor women only\nNo previous knowledge required\nWe provide all the necessary materials\nFree of charge\n\n  \n 
URL:https://doucheflux.be/event/sewing/2026-04-30/?lang=en
LOCATION:DoucheFLUX\, rue des vétérinaires 84\, Anderlecht\, Bruxelles\, 1070\, Belgium
CATEGORIES:Creativity
ATTACH;FMTTYPE=image/jpeg:https://doucheflux.be/wp-content/uploads/2024/08/repair_couture_web_flip.jpg
END:VEVENT
END:VCALENDAR