BEGIN:VCALENDAR
VERSION:2.0
PRODID:-//DoucheFLUX - ECPv6.15.17//NONSGML v1.0//EN
CALSCALE:GREGORIAN
METHOD:PUBLISH
X-WR-CALNAME:DoucheFLUX
X-ORIGINAL-URL:https://doucheflux.be/?lang=en
X-WR-CALDESC:Events for DoucheFLUX
REFRESH-INTERVAL;VALUE=DURATION:PT1H
X-Robots-Tag:noindex
X-PUBLISHED-TTL:PT1H
BEGIN:VTIMEZONE
TZID:Europe/Brussels
BEGIN:DAYLIGHT
TZOFFSETFROM:+0100
TZOFFSETTO:+0200
TZNAME:CEST
DTSTART:20250330T010000
END:DAYLIGHT
BEGIN:STANDARD
TZOFFSETFROM:+0200
TZOFFSETTO:+0100
TZNAME:CET
DTSTART:20251026T010000
END:STANDARD
BEGIN:DAYLIGHT
TZOFFSETFROM:+0100
TZOFFSETTO:+0200
TZNAME:CEST
DTSTART:20260329T010000
END:DAYLIGHT
BEGIN:STANDARD
TZOFFSETFROM:+0200
TZOFFSETTO:+0100
TZNAME:CET
DTSTART:20261025T010000
END:STANDARD
BEGIN:DAYLIGHT
TZOFFSETFROM:+0100
TZOFFSETTO:+0200
TZNAME:CEST
DTSTART:20270328T010000
END:DAYLIGHT
BEGIN:STANDARD
TZOFFSETFROM:+0200
TZOFFSETTO:+0100
TZNAME:CET
DTSTART:20271031T010000
END:STANDARD
END:VTIMEZONE
BEGIN:VEVENT
DTSTART;TZID=Europe/Brussels:20260424T140000
DTEND;TZID=Europe/Brussels:20260424T150000
DTSTAMP:20260422T205759
CREATED:20250412T161939Z
LAST-MODIFIED:20250412T161939Z
UID:10021117-1777039200-1777042800@doucheflux.be
SUMMARY:Creative workshops
DESCRIPTION:Every Friday morning\, colours invade the lounge area of the day centre! Pencils\, pastels\, watercolours\, the techniques and themes which art therapist Helena Troisgros offers the participants vary from week to week and are illustrated and explained step by step. This is not an academic exercise: everyone is free to follow their own inspiration! \n\nEvery Friday\n10:00 > 12:00\nDoucheFLUX day centre\, rue des Vétérinaires/Veeartsenstraat 84 – 1070 Anderlecht\nInformation: call 02 319 58 27 or mail\n0€
URL:https://doucheflux.be/event/creative-workshops/2026-04-24/?lang=en
LOCATION:DoucheFLUX\, rue des vétérinaires 84\, Anderlecht\, Bruxelles\, 1070\, Belgium
CATEGORIES:Creativity
END:VEVENT
END:VCALENDAR