BEGIN:VCALENDAR
VERSION:2.0
PRODID:-//DoucheFLUX - ECPv6.15.17//NONSGML v1.0//EN
CALSCALE:GREGORIAN
METHOD:PUBLISH
X-ORIGINAL-URL:https://doucheflux.be
X-WR-CALDESC:Évènements pour DoucheFLUX
REFRESH-INTERVAL;VALUE=DURATION:PT1H
X-Robots-Tag:noindex
X-PUBLISHED-TTL:PT1H
BEGIN:VTIMEZONE
TZID:Europe/Brussels
BEGIN:DAYLIGHT
TZOFFSETFROM:+0100
TZOFFSETTO:+0200
TZNAME:CEST
DTSTART:20250330T010000
END:DAYLIGHT
BEGIN:STANDARD
TZOFFSETFROM:+0200
TZOFFSETTO:+0100
TZNAME:CET
DTSTART:20251026T010000
END:STANDARD
BEGIN:DAYLIGHT
TZOFFSETFROM:+0100
TZOFFSETTO:+0200
TZNAME:CEST
DTSTART:20260329T010000
END:DAYLIGHT
BEGIN:STANDARD
TZOFFSETFROM:+0200
TZOFFSETTO:+0100
TZNAME:CET
DTSTART:20261025T010000
END:STANDARD
BEGIN:DAYLIGHT
TZOFFSETFROM:+0100
TZOFFSETTO:+0200
TZNAME:CEST
DTSTART:20270328T010000
END:DAYLIGHT
BEGIN:STANDARD
TZOFFSETFROM:+0200
TZOFFSETTO:+0100
TZNAME:CET
DTSTART:20271031T010000
END:STANDARD
END:VTIMEZONE
BEGIN:VEVENT
DTSTART;TZID=Europe/Brussels:20260422T120000
DTEND;TZID=Europe/Brussels:20260422T150000
DTSTAMP:20260422T132626
CREATED:20240811T195316Z
LAST-MODIFIED:20260329T133212Z
UID:10017984-1776859200-1776870000@doucheflux.be
SUMMARY:Couture
DESCRIPTION:Une fois par semaine\, une couturière vient s’installer avec une machine à coudre et le matériel nécessaire pour réparer gratuitement les vêtements des visiteur·euse·s : recoudre un vêtement déchiré\, remplacer une tirette\, refaire un ourlet… \nCe projet\, mis en place en collaboration avec ARC ASBL\, permet non seulement aux personnes de repartir avec un vêtement réparé/retouché mais tend aussi à sensibiliser le public sur la (sur)consommation actuelle de vêtements et à les accompagner dans leurs premiers pas derrière une machine à coudre. \nEn collaboration avec
URL:https://doucheflux.be/event/couture/2026-04-22/
LOCATION:DoucheFLUX\, rue des vétérinaires 84\, Anderlecht\, Bruxelles\, 1070\, Belgium
CATEGORIES:Créativité
ATTACH;FMTTYPE=image/jpeg:https://doucheflux.be/wp-content/uploads/2024/08/repair_couture_web_flip.jpg
END:VEVENT
BEGIN:VEVENT
DTSTART;TZID=Europe/Brussels:20260422T153000
DTEND;TZID=Europe/Brussels:20260422T170000
DTSTAMP:20260422T132626
CREATED:20260226T203958Z
LAST-MODIFIED:20260329T193451Z
UID:10022020-1776871800-1776877200@doucheflux.be
SUMMARY:Chorale - Choor**
DESCRIPTION:
URL:https://doucheflux.be/event/chorale-choor/2026-04-22/
LOCATION:DoucheFLUX\, rue des vétérinaires 84\, Anderlecht\, Bruxelles\, 1070\, Belgium
END:VEVENT
BEGIN:VEVENT
DTSTART;TZID=Europe/Brussels:20260423T090000
DTEND;TZID=Europe/Brussels:20260423T110000
DTSTAMP:20260422T132626
CREATED:20240811T195316Z
LAST-MODIFIED:20260329T133212Z
UID:10021907-1776934800-1776942000@doucheflux.be
SUMMARY:Couture
DESCRIPTION:Une fois par semaine\, une couturière vient s’installer avec une machine à coudre et le matériel nécessaire pour réparer gratuitement les vêtements des visiteur·euse·s : recoudre un vêtement déchiré\, remplacer une tirette\, refaire un ourlet… \nCe projet\, mis en place en collaboration avec ARC ASBL\, permet non seulement aux personnes de repartir avec un vêtement réparé/retouché mais tend aussi à sensibiliser le public sur la (sur)consommation actuelle de vêtements et à les accompagner dans leurs premiers pas derrière une machine à coudre. \nEn collaboration avec
URL:https://doucheflux.be/event/couture/2026-04-23/
LOCATION:DoucheFLUX\, rue des vétérinaires 84\, Anderlecht\, Bruxelles\, 1070\, Belgium
CATEGORIES:Créativité
ATTACH;FMTTYPE=image/jpeg:https://doucheflux.be/wp-content/uploads/2024/08/repair_couture_web_flip.jpg
END:VEVENT
BEGIN:VEVENT
DTSTART;TZID=Europe/Brussels:20260423T100000
DTEND;TZID=Europe/Brussels:20260423T120000
DTSTAMP:20260422T132626
CREATED:20240811T195158Z
LAST-MODIFIED:20260329T142020Z
UID:10022002-1776938400-1776945600@doucheflux.be
SUMMARY:Céramique
DESCRIPTION:Chaque atelier est un nouveau voyage\, l’occasion de se poser\, de souffler\, de papoter ou pas… et de laisser parler les mains ! Chacun·e\, accompagné·e par l’art-thérapeute Valérie Laroche\, élabore son projet.\nPlaisir d’avoir utilisé ses mains et laissé courir son imagination\, les yeux brillent davantage quand les pièces cuites et émaillées sont récupérées! \n\n2e jeudis du mois\n10:00 > 12:00\nCentre de jour de DoucheFLUX\, rue des vétérinaires\, 84 – 1070 Anderlecht\nInfos : au 02 319 58 27 ou par mail\n0€
URL:https://doucheflux.be/event/ceramique/2026-04-23/
LOCATION:DoucheFLUX\, rue des vétérinaires 84\, Anderlecht\, Bruxelles\, 1070\, Belgium
CATEGORIES:Créativité
ATTACH;FMTTYPE=image/jpeg:https://doucheflux.be/wp-content/uploads/2025/02/ceramique_web_01.jpg
END:VEVENT
BEGIN:VEVENT
DTSTART;TZID=Europe/Brussels:20260423T103000
DTEND;TZID=Europe/Brussels:20260423T130000
DTSTAMP:20260422T132626
CREATED:20250524T214442Z
LAST-MODIFIED:20260129T174758Z
UID:10021509-1776940200-1776949200@doucheflux.be
SUMMARY:Natation
DESCRIPTION:Tous les jeudis\n10:30 > 13:00\nCentre de jour de DoucheFLUX (départ collectif)\, rue des vétérinaires\, 84 – 1070 Anderlecht\nPiscine Louis Namèche (Molenbeek)\nNombre de places limitées à 6\nInscription obligatoire à l’accueil ou au 02 319 58 27\nInfos : 02 319 58 27 ou par mail\n0€\n\nÉquipement fourni si nécessaire (maillot et bonnet).\nPossibilité de douche (gratuite) après l’activité.
URL:https://doucheflux.be/event/natation-fr/2026-04-23/
LOCATION:DoucheFLUX\, rue des vétérinaires 84\, Anderlecht\, Bruxelles\, 1070\, Belgium
CATEGORIES:Sport
ATTACH;FMTTYPE=image/jpeg:https://doucheflux.be/wp-content/uploads/2024/09/natation.jpg
END:VEVENT
BEGIN:VEVENT
DTSTART;TZID=Europe/Brussels:20260424T100000
DTEND;TZID=Europe/Brussels:20260424T120000
DTSTAMP:20260422T132626
CREATED:20250830T111525Z
LAST-MODIFIED:20260329T134251Z
UID:10019859-1777024800-1777032000@doucheflux.be
SUMMARY:Radio "La Voix de la Rue"
DESCRIPTION:
URL:https://doucheflux.be/event/radio-la-voix-de-la-rue/2026-04-24/
LOCATION:DoucheFLUX\, rue des vétérinaires 84\, Anderlecht\, Bruxelles\, 1070\, Belgium
CATEGORIES:Expression
END:VEVENT
BEGIN:VEVENT
DTSTART;TZID=Europe/Brussels:20260424T140000
DTEND;TZID=Europe/Brussels:20260424T150000
DTSTAMP:20260422T132626
CREATED:20240819T102417Z
LAST-MODIFIED:20260329T134547Z
UID:10020495-1777039200-1777042800@doucheflux.be
SUMMARY:Atelier créatif
DESCRIPTION:Chaque vendredi matin\, les couleurs envahissent le foyer du centre de jour ! Crayons\, pastels\, aquarelles\, les techniques et thématiques proposées par l’art-thérapeute Helena Troisgros aux participant·e·s varient chaque semaine et sont illustrées et expliquées pas-à-pas. Nous ne sommes pas ici dans un espace académique : chacun·e a la liberté de suivre sa propre inspiration !
URL:https://doucheflux.be/event/atelier-creatif-fr/2026-04-24/
LOCATION:DoucheFLUX\, rue des vétérinaires 84\, Anderlecht\, Bruxelles\, 1070\, Belgium
CATEGORIES:Créativité
END:VEVENT
BEGIN:VEVENT
DTSTART;TZID=Europe/Brussels:20260425T110000
DTEND;TZID=Europe/Brussels:20260425T133000
DTSTAMP:20260422T132626
CREATED:20241208T184349Z
LAST-MODIFIED:20260329T133839Z
UID:10021955-1777114800-1777123800@doucheflux.be
SUMMARY:Birthday party!
DESCRIPTION:
URL:https://doucheflux.be/event/birthday-party/2026-04-25/
LOCATION:DoucheFLUX\, rue des vétérinaires 84\, Anderlecht\, Bruxelles\, 1070\, Belgium
CATEGORIES:Festif
END:VEVENT
BEGIN:VEVENT
DTSTART;TZID=Europe/Brussels:20260427T110000
DTEND;TZID=Europe/Brussels:20260427T140000
DTSTAMP:20260422T132626
CREATED:20240830T093048Z
LAST-MODIFIED:20250330T224219Z
UID:10000104-1777287600-1777298400@doucheflux.be
SUMMARY:Syndicat des immenses
DESCRIPTION:Le Syndicat des immenses est un groupe de pression et d’action\, non un groupe de parole. Comme il y a un syndicat des propriétaires et un syndicat des locataires\, il y a désormais un syndicat des aspirants locataires / propriétaires.\n\nLe Syndicat des immenses est un lobby citoyen\, une start-up sociétale post-charité\, un corps intermédiaire\, un interlocuteur soci[ét]al\, un laboratoire psycho-social et philosophique de réflexions politiques\, d’actions engagées et de propositions constructives en faveur des personnes en non- logement ou en mal-logement.\n\nLe Syndicat des immenses porte des revendications\, défend les droits des immenses\, intervient régulièrement dans l’espace public et participe à de nombreux événements. Il se réunit tous les lundis de 11h à 14h chez DoucheFLUX.*\n\n*Si le Syndicat est autonome\, il est très dépendant jusqu’à présent de DoucheFLUX. Le soutien de l’asbl au Syndicat s’intègre dans son action « Plaidoyer ».
URL:https://doucheflux.be/event/syndicat-des-immenses/2026-04-27/
LOCATION:DoucheFLUX\, rue des vétérinaires 84\, Anderlecht\, Bruxelles\, 1070\, Belgium
CATEGORIES:SDI
ATTACH;FMTTYPE=image/jpeg:https://doucheflux.be/wp-content/uploads/2024/08/sdi.jpg
END:VEVENT
BEGIN:VEVENT
DTSTART;TZID=Europe/Brussels:20260428T100000
DTEND;TZID=Europe/Brussels:20260428T120000
DTSTAMP:20260422T132626
CREATED:20250629T233009Z
LAST-MODIFIED:20260329T193611Z
UID:10018786-1777370400-1777377600@doucheflux.be
SUMMARY:Atelier Franzine
DESCRIPTION:
URL:https://doucheflux.be/event/projection-cinema/
LOCATION:Bruxelles
CATEGORIES:Culture
END:VEVENT
BEGIN:VEVENT
DTSTART;TZID=Europe/Brussels:20260428T110000
DTEND;TZID=Europe/Brussels:20260428T123000
DTSTAMP:20260422T132626
CREATED:20250411T071353Z
LAST-MODIFIED:20260226T195130Z
UID:10013365-1777374000-1777379400@doucheflux.be
SUMMARY:Footing
DESCRIPTION:Faire du sport\, ça fait du bien. Certains y trouvent un moyen de « vider la tête » ou de se sentir bien dans leur corps. Les efforts consentis permettent aussi de de (re)trouver sa dignité\, de (re)découvrir sa force propre. \nDoucheFLUX propose des activités sportives plusieurs fois par semaine : football\, natation\, initiation à l’escalade\, marche sportive et footing. Accompagné·e·s par un moniteur professionnel\, les participant·e·s apprennent les « trucs et astuces » pour pratiquer le sport d’une manière qui respecte le corps\, tenant compte à la fois des limites et capacités de chacun·e. \nFooting (course à pied)\n\nmardi de 11h à 12h30\nrendez-vous à DoucheFLUX\néquipement fourni\ninscription à l’accueil\ntarif : gratuit\ndouche gratuite après l’entrainement à DoucheFLUX\n\nEn collaboration avec
URL:https://doucheflux.be/event/footing-fr/2026-04-28/
LOCATION:DoucheFLUX\, rue des vétérinaires 84\, Anderlecht\, Bruxelles\, 1070\, Belgium
CATEGORIES:Sport
ATTACH;FMTTYPE=image/jpeg:https://doucheflux.be/wp-content/uploads/2024/08/clique-images-rl1as-kryzw-unsplash_web.jpg
END:VEVENT
BEGIN:VEVENT
DTSTART;TZID=Europe/Brussels:20260428T120000
DTEND;TZID=Europe/Brussels:20260428T140000
DTSTAMP:20260422T132626
CREATED:20251225T145510Z
LAST-MODIFIED:20260329T141007Z
UID:10021995-1777377600-1777384800@doucheflux.be
SUMMARY:Atelier Zinneke Parade
DESCRIPTION:A
URL:https://doucheflux.be/event/atelier-zinneke-parade/2026-04-28/
LOCATION:DoucheFLUX\, rue des vétérinaires 84\, Anderlecht\, Bruxelles\, 1070\, Belgium
CATEGORIES:Festif
END:VEVENT
BEGIN:VEVENT
DTSTART;TZID=Europe/Brussels:20260429T120000
DTEND;TZID=Europe/Brussels:20260429T150000
DTSTAMP:20260422T132626
CREATED:20240811T195316Z
LAST-MODIFIED:20260329T133212Z
UID:10017985-1777464000-1777474800@doucheflux.be
SUMMARY:Couture
DESCRIPTION:Une fois par semaine\, une couturière vient s’installer avec une machine à coudre et le matériel nécessaire pour réparer gratuitement les vêtements des visiteur·euse·s : recoudre un vêtement déchiré\, remplacer une tirette\, refaire un ourlet… \nCe projet\, mis en place en collaboration avec ARC ASBL\, permet non seulement aux personnes de repartir avec un vêtement réparé/retouché mais tend aussi à sensibiliser le public sur la (sur)consommation actuelle de vêtements et à les accompagner dans leurs premiers pas derrière une machine à coudre. \nEn collaboration avec
URL:https://doucheflux.be/event/couture/2026-04-29/
LOCATION:DoucheFLUX\, rue des vétérinaires 84\, Anderlecht\, Bruxelles\, 1070\, Belgium
CATEGORIES:Créativité
ATTACH;FMTTYPE=image/jpeg:https://doucheflux.be/wp-content/uploads/2024/08/repair_couture_web_flip.jpg
END:VEVENT
BEGIN:VEVENT
DTSTART;TZID=Europe/Brussels:20260430T090000
DTEND;TZID=Europe/Brussels:20260430T110000
DTSTAMP:20260422T132626
CREATED:20240811T195316Z
LAST-MODIFIED:20260329T133212Z
UID:10021908-1777539600-1777546800@doucheflux.be
SUMMARY:Couture
DESCRIPTION:Une fois par semaine\, une couturière vient s’installer avec une machine à coudre et le matériel nécessaire pour réparer gratuitement les vêtements des visiteur·euse·s : recoudre un vêtement déchiré\, remplacer une tirette\, refaire un ourlet… \nCe projet\, mis en place en collaboration avec ARC ASBL\, permet non seulement aux personnes de repartir avec un vêtement réparé/retouché mais tend aussi à sensibiliser le public sur la (sur)consommation actuelle de vêtements et à les accompagner dans leurs premiers pas derrière une machine à coudre. \nEn collaboration avec
URL:https://doucheflux.be/event/couture/2026-04-30/
LOCATION:DoucheFLUX\, rue des vétérinaires 84\, Anderlecht\, Bruxelles\, 1070\, Belgium
CATEGORIES:Créativité
ATTACH;FMTTYPE=image/jpeg:https://doucheflux.be/wp-content/uploads/2024/08/repair_couture_web_flip.jpg
END:VEVENT
BEGIN:VEVENT
DTSTART;TZID=Europe/Brussels:20260430T103000
DTEND;TZID=Europe/Brussels:20260430T130000
DTSTAMP:20260422T132626
CREATED:20250524T214442Z
LAST-MODIFIED:20260129T174758Z
UID:10021510-1777545000-1777554000@doucheflux.be
SUMMARY:Natation
DESCRIPTION:Tous les jeudis\n10:30 > 13:00\nCentre de jour de DoucheFLUX (départ collectif)\, rue des vétérinaires\, 84 – 1070 Anderlecht\nPiscine Louis Namèche (Molenbeek)\nNombre de places limitées à 6\nInscription obligatoire à l’accueil ou au 02 319 58 27\nInfos : 02 319 58 27 ou par mail\n0€\n\nÉquipement fourni si nécessaire (maillot et bonnet).\nPossibilité de douche (gratuite) après l’activité.
URL:https://doucheflux.be/event/natation-fr/2026-04-30/
LOCATION:DoucheFLUX\, rue des vétérinaires 84\, Anderlecht\, Bruxelles\, 1070\, Belgium
CATEGORIES:Sport
ATTACH;FMTTYPE=image/jpeg:https://doucheflux.be/wp-content/uploads/2024/09/natation.jpg
END:VEVENT
END:VCALENDAR